BEGIN:VCALENDAR
VERSION:2.0
PRODID:-//Open Door Christian Fellowship - ECPv6.15.20//NONSGML v1.0//EN
CALSCALE:GREGORIAN
METHOD:PUBLISH
X-WR-CALNAME:Open Door Christian Fellowship
X-ORIGINAL-URL:https://odcf.ca
X-WR-CALDESC:Events for Open Door Christian Fellowship
REFRESH-INTERVAL;VALUE=DURATION:PT1H
X-Robots-Tag:noindex
X-PUBLISHED-TTL:PT1H
BEGIN:VTIMEZONE
TZID:America/Toronto
BEGIN:DAYLIGHT
TZOFFSETFROM:-0500
TZOFFSETTO:-0400
TZNAME:EDT
DTSTART:20230312T070000
END:DAYLIGHT
BEGIN:STANDARD
TZOFFSETFROM:-0400
TZOFFSETTO:-0500
TZNAME:EST
DTSTART:20231105T060000
END:STANDARD
BEGIN:DAYLIGHT
TZOFFSETFROM:-0500
TZOFFSETTO:-0400
TZNAME:EDT
DTSTART:20240310T070000
END:DAYLIGHT
BEGIN:STANDARD
TZOFFSETFROM:-0400
TZOFFSETTO:-0500
TZNAME:EST
DTSTART:20241103T060000
END:STANDARD
BEGIN:DAYLIGHT
TZOFFSETFROM:-0500
TZOFFSETTO:-0400
TZNAME:EDT
DTSTART:20250309T070000
END:DAYLIGHT
BEGIN:STANDARD
TZOFFSETFROM:-0400
TZOFFSETTO:-0500
TZNAME:EST
DTSTART:20251102T060000
END:STANDARD
END:VTIMEZONE
BEGIN:VEVENT
DTSTART;TZID=America/Toronto:20240621T180000
DTEND;TZID=America/Toronto:20240621T220000
DTSTAMP:20260424T082606
CREATED:20230616T165401Z
LAST-MODIFIED:20240617T182005Z
UID:6700-1718992800-1719007200@odcf.ca
SUMMARY:Youth Gala
DESCRIPTION:
URL:https://odcf.ca/event/youth-gala/
CATEGORIES:Main Calendar
END:VEVENT
BEGIN:VEVENT
DTSTART;TZID=America/Toronto:20240626T190000
DTEND;TZID=America/Toronto:20240626T203000
DTSTAMP:20260424T082606
CREATED:20231025T153739Z
LAST-MODIFIED:20240625T150713Z
UID:7041-1719428400-1719433800@odcf.ca
SUMMARY:Essentials Class
DESCRIPTION:Topic:  Alpha \nMeet at Dennis’s home.
URL:https://odcf.ca/event/essentials-class/
LOCATION:CALL FOR DETAILS
CATEGORIES:Main Calendar
END:VEVENT
END:VCALENDAR