BEGIN:VCALENDAR
VERSION:2.0
PRODID:-//Open Door Christian Fellowship - ECPv6.15.20//NONSGML v1.0//EN
CALSCALE:GREGORIAN
METHOD:PUBLISH
X-WR-CALNAME:Open Door Christian Fellowship
X-ORIGINAL-URL:https://odcf.ca
X-WR-CALDESC:Events for Open Door Christian Fellowship
REFRESH-INTERVAL;VALUE=DURATION:PT1H
X-Robots-Tag:noindex
X-PUBLISHED-TTL:PT1H
BEGIN:VTIMEZONE
TZID:America/Toronto
BEGIN:DAYLIGHT
TZOFFSETFROM:-0500
TZOFFSETTO:-0400
TZNAME:EDT
DTSTART:20230312T070000
END:DAYLIGHT
BEGIN:STANDARD
TZOFFSETFROM:-0400
TZOFFSETTO:-0500
TZNAME:EST
DTSTART:20231105T060000
END:STANDARD
BEGIN:DAYLIGHT
TZOFFSETFROM:-0500
TZOFFSETTO:-0400
TZNAME:EDT
DTSTART:20240310T070000
END:DAYLIGHT
BEGIN:STANDARD
TZOFFSETFROM:-0400
TZOFFSETTO:-0500
TZNAME:EST
DTSTART:20241103T060000
END:STANDARD
BEGIN:DAYLIGHT
TZOFFSETFROM:-0500
TZOFFSETTO:-0400
TZNAME:EDT
DTSTART:20250309T070000
END:DAYLIGHT
BEGIN:STANDARD
TZOFFSETFROM:-0400
TZOFFSETTO:-0500
TZNAME:EST
DTSTART:20251102T060000
END:STANDARD
END:VTIMEZONE
BEGIN:VEVENT
DTSTART;TZID=America/Toronto:20240419T200000
DTEND;TZID=America/Toronto:20240419T220000
DTSTAMP:20260424T120117
CREATED:20240321T200758Z
LAST-MODIFIED:20240410T173437Z
UID:8289-1713556800-1713564000@odcf.ca
SUMMARY:Nine20 Youth @ 920 Dundas St.
DESCRIPTION:
URL:https://odcf.ca/event/nine20-youth-social/
LOCATION:920 Dundas St.
CATEGORIES:Main Calendar
END:VEVENT
END:VCALENDAR